BEGIN:VCALENDAR
VERSION:2.0
PRODID:-//Bosse//NONSGML Bosse//EN
METHOD:PUBLISH
BEGIN:VEVENT
UID:20260419T170033Z-220388751-www.axelbosse.de
URL:https://www.axelbosse.de/dates/bosse-2162024-de-brandenburg-havelfe-29--684-.html
DTSTAMP:20260419T170033Z
DTSTART:20240621T180000Z
DTEND:20240621T180000Z
SUMMARY:BOSSE | 21.6.2024 (DE) Brandenburg\, Havelfest - Stadtwerke Bühne
DESCRIPTION:For tickets and more Bosse-dates check https://www.axelbosse.de/dates/
LOCATION:Havelfest - Stadtwerke Bühne\, Brandenburg\, Germany
END:VEVENT
END:VCALENDAR
