BEGIN:VCALENDAR
VERSION:2.0
PRODID:-//Bosse//NONSGML Bosse//EN
METHOD:PUBLISH
BEGIN:VEVENT
UID:20260419T165709Z-693262677-www.axelbosse.de
URL:https://www.axelbosse.de/dates/bosse-2482024-de-nordhorn-seventyfiv-29--683-.html
DTSTAMP:20260419T165709Z
DTSTART:20240824T180000Z
DTEND:20240824T180000Z
SUMMARY:BOSSE | 24.8.2024 (DE) Nordhorn\, Seventyfive Festival
DESCRIPTION:For tickets and more Bosse-dates check https://www.axelbosse.de/dates/
LOCATION:Seventyfive Festival\, Nordhorn\, Germany
END:VEVENT
END:VCALENDAR
