BEGIN:VCALENDAR
VERSION:2.0
PRODID:-//Bosse//NONSGML Bosse//EN
METHOD:PUBLISH
BEGIN:VEVENT
UID:20260419T064526Z-1562991166-www.axelbosse.de
URL:https://www.axelbosse.de/dates/bosse-1--482024-de-beerfelden--maarb-29--681-.html
DTSTAMP:20260419T064526Z
DTSTART:20240801T180000Z
DTEND:20240804T180500Z
SUMMARY:BOSSE | 1 - 4.8.2024 (DE) Beerfelden - Maarbachstausee\, Sound Of The Forest
DESCRIPTION:For tickets and more Bosse-dates check https://www.axelbosse.de/dates/
LOCATION:Sound Of The Forest\, Beerfelden - Maarbachstausee\, Germany
END:VEVENT
END:VCALENDAR
