BEGIN:VCALENDAR
VERSION:2.0
PRODID:-//Bosse//NONSGML Bosse//EN
METHOD:PUBLISH
BEGIN:VEVENT
UID:20260419T165849Z-713036171-www.axelbosse.de
URL:https://www.axelbosse.de/dates/bosse-2862024-de-rottershausen-ab-ge-29--678-.html
DTSTAMP:20260419T165849Z
DTSTART:20240628T180000Z
DTEND:20240628T230500Z
SUMMARY:BOSSE | 28.6.2024 (DE) Rottershausen\, Ab geht die Lutzi! Festival
DESCRIPTION:For tickets and more Bosse-dates check https://www.axelbosse.de/dates/
LOCATION:Ab geht die Lutzi! Festival\, Rottershausen\, Germany
END:VEVENT
END:VCALENDAR
