BEGIN:VCALENDAR
VERSION:2.0
PRODID:-//Bosse//NONSGML Bosse//EN
METHOD:PUBLISH
BEGIN:VEVENT
UID:20260419T165849Z-1411736563-www.axelbosse.de
URL:https://www.axelbosse.de/dates/bosse-1082024-de-rothenburg-odtauber-29--677-.html
DTSTAMP:20260419T165849Z
DTSTART:20240810T180000Z
DTEND:20240810T180000Z
SUMMARY:BOSSE | 10.8.2024 (DE) Rothenburg o.d.Tauber\, Taubertal Festival
DESCRIPTION:For tickets and more Bosse-dates check https://www.axelbosse.de/dates/
LOCATION:Taubertal Festival\, Rothenburg o.d.Tauber\, Germany
END:VEVENT
END:VCALENDAR
