BEGIN:VCALENDAR
VERSION:2.0
PRODID:-//Bosse//NONSGML Bosse//EN
METHOD:PUBLISH
BEGIN:VEVENT
UID:20260419T165607Z-1199037684-www.axelbosse.de
URL:https://www.axelbosse.de/dates/bosse-2172024-de-cuxhaven-/-nordholz-29--676-.html
DTSTAMP:20260419T165607Z
DTSTART:20240721T180000Z
DTEND:20240721T180500Z
SUMMARY:BOSSE | 21.7.2024 (DE) Cuxhaven / Nordholz\, Deichbrand Festival
DESCRIPTION:For tickets and more Bosse-dates check https://www.axelbosse.de/dates/
LOCATION:Deichbrand Festival\, Cuxhaven / Nordholz\, Germany
END:VEVENT
END:VCALENDAR
