BEGIN:VCALENDAR
VERSION:2.0
PRODID:-//Bosse//NONSGML Bosse//EN
METHOD:PUBLISH
BEGIN:VEVENT
UID:20260419T165931Z-453753252-www.axelbosse.de
URL:https://www.axelbosse.de/dates/bosse-2262024-de-salzkotten-dreckbur-29--675-.html
DTSTAMP:20260419T165931Z
DTSTART:20240622T180000Z
DTEND:20240622T180000Z
SUMMARY:BOSSE | 22.6.2024 (DE) Salzkotten\, Dreckburg Open Air
DESCRIPTION:For tickets and more Bosse-dates check https://www.axelbosse.de/dates/
LOCATION:Dreckburg Open Air\, Salzkotten\, Germany
END:VEVENT
END:VCALENDAR
