BEGIN:VCALENDAR
VERSION:2.0
PRODID:-//Bosse//NONSGML Bosse//EN
METHOD:PUBLISH
BEGIN:VEVENT
UID:20260419T113143Z-1558516266-www.axelbosse.de
URL:https://www.axelbosse.de/dates/bosse-692024-de-timmendorfer-strand--29--674-.html
DTSTAMP:20260419T113143Z
DTSTART:20240906T180000Z
DTEND:20240906T180000Z
SUMMARY:BOSSE | 6.9.2024 (DE) Timmendorfer Strand\, Musik-Arena am Strand
DESCRIPTION:For tickets and more Bosse-dates check https://www.axelbosse.de/dates/
LOCATION:Musik-Arena am Strand\, Timmendorfer Strand\, Germany
END:VEVENT
END:VCALENDAR
