BEGIN:VCALENDAR
VERSION:2.0
PRODID:-//Bosse//NONSGML Bosse//EN
METHOD:PUBLISH
BEGIN:VEVENT
UID:20260419T165607Z-659950554-www.axelbosse.de
URL:https://www.axelbosse.de/dates/bosse-1882024-de-grosspoesna-highfie-29--672-.html
DTSTAMP:20260419T165607Z
DTSTART:20240818T180000Z
DTEND:20240818T180500Z
SUMMARY:BOSSE | 18.8.2024 (DE) Grosspösna\, Highfield Festival
DESCRIPTION:For tickets and more Bosse-dates check https://www.axelbosse.de/dates/
LOCATION:Highfield Festival\, Grosspösna\, Germany
END:VEVENT
END:VCALENDAR
