BEGIN:VCALENDAR
VERSION:2.0
PRODID:-//Bosse//NONSGML Bosse//EN
METHOD:PUBLISH
BEGIN:VEVENT
UID:20260419T165859Z-1954379764-www.axelbosse.de
URL:https://www.axelbosse.de/dates/bosse-982024-de-heringsdorf-freiflae-29--671-.html
DTSTAMP:20260419T165859Z
DTSTART:20240809T180000Z
DTEND:20240809T230500Z
SUMMARY:BOSSE | 9.8.2024 (DE) Heringsdorf\, Freifläche an der Seebrücke
DESCRIPTION:For tickets and more Bosse-dates check https://www.axelbosse.de/dates/
LOCATION:Freifläche an der Seebrücke\, Heringsdorf\, Germany
END:VEVENT
END:VCALENDAR
