BEGIN:VCALENDAR
VERSION:2.0
PRODID:-//Bosse//NONSGML Bosse//EN
METHOD:PUBLISH
BEGIN:VEVENT
UID:20260419T165914Z-1650144136-www.axelbosse.de
URL:https://www.axelbosse.de/dates/bosse-382024-de-koblenz-festung-ehre-29--670-.html
DTSTAMP:20260419T165914Z
DTSTART:20240803T180000Z
DTEND:20240803T180000Z
SUMMARY:BOSSE | 3.8.2024 (DE) Koblenz\, Festung Ehrenbreitstein
DESCRIPTION:For tickets and more Bosse-dates check https://www.axelbosse.de/dates/
LOCATION:Festung Ehrenbreitstein\, Koblenz\, Germany
END:VEVENT
END:VCALENDAR
