BEGIN:VCALENDAR
VERSION:2.0
PRODID:-//Bosse//NONSGML Bosse//EN
METHOD:PUBLISH
BEGIN:VEVENT
UID:20260419T170033Z-406557131-www.axelbosse.de
URL:https://www.axelbosse.de/dates/bosse-182024-de-dinslaken-burgtheate-29--669-.html
DTSTAMP:20260419T170033Z
DTSTART:20240801T180000Z
DTEND:20240801T180000Z
SUMMARY:BOSSE | 1.8.2024 (DE) Dinslaken\, Burgtheater
DESCRIPTION:For tickets and more Bosse-dates check https://www.axelbosse.de/dates/
LOCATION:Burgtheater\, Dinslaken\, Germany
END:VEVENT
END:VCALENDAR
