BEGIN:VCALENDAR
VERSION:2.0
PRODID:-//Bosse//NONSGML Bosse//EN
METHOD:PUBLISH
BEGIN:VEVENT
UID:20260419T165914Z-1898647871-www.axelbosse.de
URL:https://www.axelbosse.de/dates/bosse-1782024-de-braunschweig-brawo--29--668-.html
DTSTAMP:20260419T165914Z
DTSTART:20240817T190000Z
DTEND:20240817T190000Z
SUMMARY:BOSSE | 17.8.2024 (DE) Braunschweig\, Brawo Bühne
DESCRIPTION:Supports: Maïa\, Ronja
LOCATION:Brawo Bühne\, Braunschweig\, Germany
END:VEVENT
END:VCALENDAR
