BEGIN:VCALENDAR
VERSION:2.0
PRODID:-//Bosse//NONSGML Bosse//EN
METHOD:PUBLISH
BEGIN:VEVENT
UID:20260419T165715Z-1178764068-www.axelbosse.de
URL:https://www.axelbosse.de/dates/bosse-1682024-de-dresden-junge-garde-29--667-.html
DTSTAMP:20260419T165715Z
DTSTART:20240816T200000Z
DTEND:20240816T200000Z
SUMMARY:BOSSE | 16.8.2024 (DE) Dresden\, Junge Garde
DESCRIPTION:Supports: Maïa\, Ronja
LOCATION:Junge Garde\, Dresden\, Germany
END:VEVENT
END:VCALENDAR
