BEGIN:VCALENDAR
VERSION:2.0
PRODID:-//Bosse//NONSGML Bosse//EN
METHOD:PUBLISH
BEGIN:VEVENT
UID:20260419T165859Z-570844030-www.axelbosse.de
URL:https://www.axelbosse.de/dates/bosse-1582024-de-rostock-iga-park-29--666-.html
DTSTAMP:20260419T165859Z
DTSTART:20240815T200000Z
DTEND:20240815T200000Z
SUMMARY:BOSSE | 15.8.2024 (DE) Rostock\, IGA Park
DESCRIPTION:Supports: Maïa\, Ronja
LOCATION:IGA Park\, Rostock\, Germany
END:VEVENT
END:VCALENDAR
