BEGIN:VCALENDAR
VERSION:2.0
PRODID:-//Bosse//NONSGML Bosse//EN
METHOD:PUBLISH
BEGIN:VEVENT
UID:20260418T035705Z-127383847-www.axelbosse.de
URL:https://www.axelbosse.de/dates/bosse-1052024-de-hamburg-alsterdorfe-28--665-.html
DTSTAMP:20260418T035705Z
DTSTART:20240510T200000Z
DTEND:20240510T200000Z
SUMMARY:BOSSE | 10.5.2024 (DE) Hamburg\, Alsterdorfer Sporthalle
DESCRIPTION:For tickets and more Bosse-dates check https://www.axelbosse.de/dates/
LOCATION:Alsterdorfer Sporthalle\, Hamburg\, Germany
END:VEVENT
END:VCALENDAR
