BEGIN:VCALENDAR
VERSION:2.0
PRODID:-//Bosse//NONSGML Bosse//EN
METHOD:PUBLISH
BEGIN:VEVENT
UID:20260419T165525Z-2117727936-www.axelbosse.de
URL:https://www.axelbosse.de/dates/bosse-752024-de-kiel-wunderino-arena-28--663-.html
DTSTAMP:20260419T165525Z
DTSTART:20240507T200000Z
DTEND:20240507T200000Z
SUMMARY:BOSSE | 7.5.2024 (DE) Kiel\, Wunderino Arena
DESCRIPTION:For tickets and more Bosse-dates check https://www.axelbosse.de/dates/
LOCATION:Wunderino Arena\, Kiel\, Germany
END:VEVENT
END:VCALENDAR
