BEGIN:VCALENDAR
VERSION:2.0
PRODID:-//Bosse//NONSGML Bosse//EN
METHOD:PUBLISH
BEGIN:VEVENT
UID:20260419T165715Z-1486925248-www.axelbosse.de
URL:https://www.axelbosse.de/dates/bosse-652024-de-bremen-pier-2-28--662-.html
DTSTAMP:20260419T165715Z
DTSTART:20240506T200000Z
DTEND:20240506T200000Z
SUMMARY:BOSSE | 6.5.2024 (DE) Bremen\, Pier 2
DESCRIPTION:For tickets and more Bosse-dates check https://www.axelbosse.de/dates/
LOCATION:Pier 2\, Bremen\, Germany
END:VEVENT
END:VCALENDAR
