BEGIN:VCALENDAR
VERSION:2.0
PRODID:-//Bosse//NONSGML Bosse//EN
METHOD:PUBLISH
BEGIN:VEVENT
UID:20260419T165709Z-1463059217-www.axelbosse.de
URL:https://www.axelbosse.de/dates/bosse-352024-de-berlin-max-schmeling-28--660-.html
DTSTAMP:20260419T165709Z
DTSTART:20240503T200000Z
DTEND:20240503T200000Z
SUMMARY:BOSSE | 3.5.2024 (DE) Berlin\, Max-Schmeling-Halle
DESCRIPTION:For tickets and more Bosse-dates check https://www.axelbosse.de/dates/
LOCATION:Max-Schmeling-Halle\, Berlin\, Germany
END:VEVENT
END:VCALENDAR
