BEGIN:VCALENDAR
VERSION:2.0
PRODID:-//Bosse//NONSGML Bosse//EN
METHOD:PUBLISH
BEGIN:VEVENT
UID:20260419T165644Z-651637338-www.axelbosse.de
URL:https://www.axelbosse.de/dates/bosse-252024-de-muenster-mcc-halle-m-28--659-.html
DTSTAMP:20260419T165644Z
DTSTART:20240502T200000Z
DTEND:20240502T200000Z
SUMMARY:BOSSE | 2.5.2024 (DE) Münster\, MCC Halle Münsterland
DESCRIPTION:For tickets and more Bosse-dates check https://www.axelbosse.de/dates/
LOCATION:MCC Halle Münsterland\, Münster\, Germany
END:VEVENT
END:VCALENDAR
