BEGIN:VCALENDAR
VERSION:2.0
PRODID:-//Bosse//NONSGML Bosse//EN
METHOD:PUBLISH
BEGIN:VEVENT
UID:20260419T170028Z-1877311172-www.axelbosse.de
URL:https://www.axelbosse.de/dates/bosse-3042024-de-muenchen-tonhalle-28--658-.html
DTSTAMP:20260419T170028Z
DTSTART:20240430T200000Z
DTEND:20240430T200000Z
SUMMARY:BOSSE | 30.4.2024 (DE) München\, Tonhalle
DESCRIPTION:For tickets and more Bosse-dates check https://www.axelbosse.de/dates/
LOCATION:Tonhalle\, München\, Germany
END:VEVENT
END:VCALENDAR
