BEGIN:VCALENDAR
VERSION:2.0
PRODID:-//Bosse//NONSGML Bosse//EN
METHOD:PUBLISH
BEGIN:VEVENT
UID:20260419T165526Z-2086215613-www.axelbosse.de
URL:https://www.axelbosse.de/dates/bosse-2942024-de-stuttgart-liederhal-28--657-.html
DTSTAMP:20260419T165526Z
DTSTART:20240429T200000Z
DTEND:20240429T200000Z
SUMMARY:BOSSE | 29.4.2024 (DE) Stuttgart\, Liederhalle Beethovensaal
DESCRIPTION:For tickets and more Bosse-dates check https://www.axelbosse.de/dates/
LOCATION:Liederhalle Beethovensaal\, Stuttgart\, Germany
END:VEVENT
END:VCALENDAR
