BEGIN:VCALENDAR
VERSION:2.0
PRODID:-//Bosse//NONSGML Bosse//EN
METHOD:PUBLISH
BEGIN:VEVENT
UID:20260419T064536Z-621425998-www.axelbosse.de
URL:https://www.axelbosse.de/dates/bosse-2642024-de-koeln-palladium-28--655-.html
DTSTAMP:20260419T064536Z
DTSTART:20240426T200000Z
DTEND:20240426T200000Z
SUMMARY:BOSSE | 26.4.2024 (DE) Köln\, Palladium
DESCRIPTION:For tickets and more Bosse-dates check https://www.axelbosse.de/dates/
LOCATION:Palladium\, Köln\, Germany
END:VEVENT
END:VCALENDAR
